BEGIN:VCALENDAR
VERSION:2.0
PRODID:-//Hospizdienst Melsunger Land - ECPv6.15.20//NONSGML v1.0//EN
CALSCALE:GREGORIAN
METHOD:PUBLISH
X-ORIGINAL-URL:https://hospizdienst-meg.de
X-WR-CALDESC:Veranstaltungen für Hospizdienst Melsunger Land
REFRESH-INTERVAL;VALUE=DURATION:PT1H
X-Robots-Tag:noindex
X-PUBLISHED-TTL:PT1H
BEGIN:VTIMEZONE
TZID:Europe/Berlin
BEGIN:DAYLIGHT
TZOFFSETFROM:+0100
TZOFFSETTO:+0200
TZNAME:CEST
DTSTART:20210328T010000
END:DAYLIGHT
BEGIN:STANDARD
TZOFFSETFROM:+0200
TZOFFSETTO:+0100
TZNAME:CET
DTSTART:20211031T010000
END:STANDARD
BEGIN:DAYLIGHT
TZOFFSETFROM:+0100
TZOFFSETTO:+0200
TZNAME:CEST
DTSTART:20220327T010000
END:DAYLIGHT
BEGIN:STANDARD
TZOFFSETFROM:+0200
TZOFFSETTO:+0100
TZNAME:CET
DTSTART:20221030T010000
END:STANDARD
BEGIN:DAYLIGHT
TZOFFSETFROM:+0100
TZOFFSETTO:+0200
TZNAME:CEST
DTSTART:20230326T010000
END:DAYLIGHT
BEGIN:STANDARD
TZOFFSETFROM:+0200
TZOFFSETTO:+0100
TZNAME:CET
DTSTART:20231029T010000
END:STANDARD
END:VTIMEZONE
BEGIN:VEVENT
DTSTART;TZID=Europe/Berlin:20220903T090000
DTEND;TZID=Europe/Berlin:20220903T133000
DTSTAMP:20260425T160445
CREATED:20220627T073639Z
LAST-MODIFIED:20220627T073639Z
UID:3404-1662195600-1662211800@hospizdienst-meg.de
SUMMARY:Letzte Hilfe Kurs
DESCRIPTION:Das Lebensende und Sterben unserer Angehörigen\, Freunde und Nachbarn macht uns oft hilflos. Wir möchten Ihnen mit diesem Kurs die Möglichkeit geben\, sich mit dem Thema “Umsorgen von schwer erkrankten und sterbenden Menschen am Lebensende“ zu beschäftigen. \nDas kleine 1×1 der Sterbebegleitung \nWir vermitteln Ihnen Basiswissen\, Orientierungen und einfache Handgriffe. Sterbebegleitung ist keine Wissenschaft\, sondern ist auch in der Familie\, im Freundeskreis und der Nachbarschaft möglich. Wir möchten Ihnen Grundwissen an die Hand geben und Sie ermutigen\, sich Sterbenden zuzuwenden. Denn Zuwendung ist das\, was wir alle am Ende des Lebens am meisten brauchen. \nDer Kurs besteht aus vier Unterrichtseinheiten (Modulen) zu jeweils 45 Minuten und beschäftigt sich mit den Themen Sterben als ein Teil des Lebens\, Vorsorgen und entscheiden\, Leiden lindern und Abschied nehmen. \nVideo zum Kurs ansehen \nDie Teilnahme ist kostenfrei! \nAnmeldung und Fragen bei Hospizdienst Melsunger Land unter 05661-92 61 933.
URL:https://hospizdienst-meg.de/event/letzte-hilfe-kurs-3/
LOCATION:Gemeindezentrum Malsfeld\, Kirchstrasse 9\, Malsfeld
CATEGORIES:Termine
ATTACH;FMTTYPE=image/jpeg:https://hospizdienst-meg.de/wp-content/uploads/2021/07/Letzt-Hilfe-Kurs.jpg
END:VEVENT
BEGIN:VEVENT
DTSTART;TZID=Europe/Berlin:20220910T090000
DTEND;TZID=Europe/Berlin:20220910T133000
DTSTAMP:20260425T160445
CREATED:20220627T073823Z
LAST-MODIFIED:20220627T073823Z
UID:3450-1662800400-1662816600@hospizdienst-meg.de
SUMMARY:Letzte Hilfe Kurs
DESCRIPTION:Das Lebensende und Sterben unserer Angehörigen\, Freunde und Nachbarn macht uns oft hilflos. Wir möchten Ihnen mit diesem Kurs die Möglichkeit geben\, sich mit dem Thema “Umsorgen von schwer erkrankten und sterbenden Menschen am Lebensende“ zu beschäftigen. \nDas kleine 1×1 der Sterbebegleitung \nWir vermitteln Ihnen Basiswissen\, Orientierungen und einfache Handgriffe. Sterbebegleitung ist keine Wissenschaft\, sondern ist auch in der Familie\, im Freundeskreis und der Nachbarschaft möglich. Wir möchten Ihnen Grundwissen an die Hand geben und Sie ermutigen\, sich Sterbenden zuzuwenden. Denn Zuwendung ist das\, was wir alle am Ende des Lebens am meisten brauchen. \nDer Kurs besteht aus vier Unterrichtseinheiten (Modulen) zu jeweils 45 Minuten und beschäftigt sich mit den Themen Sterben als ein Teil des Lebens\, Vorsorgen und entscheiden\, Leiden lindern und Abschied nehmen. \nVideo zum Kurs ansehen \nDie Teilnahme ist kostenfrei! \nAnmeldung und Fragen bei Hospizdienst Melsunger Land unter 05661-92 61 933.
URL:https://hospizdienst-meg.de/event/letzte-hilfe-kurs-4/
LOCATION:Kindertagesstätte Pfiffikus\, Am Eselspfade 2\, Körle
CATEGORIES:Termine
ATTACH;FMTTYPE=image/jpeg:https://hospizdienst-meg.de/wp-content/uploads/2021/07/Letzt-Hilfe-Kurs.jpg
END:VEVENT
BEGIN:VEVENT
DTSTART;TZID=Europe/Berlin:20220928T150000
DTEND;TZID=Europe/Berlin:20220928T170000
DTSTAMP:20260425T160445
CREATED:20220620T192835Z
LAST-MODIFIED:20220620T192835Z
UID:3441-1664377200-1664384400@hospizdienst-meg.de
SUMMARY:Café Lichtblick – Mit dem Verlust Leben Lernen
DESCRIPTION:Ein Angebot zur Trauerbewältigung.\nDas Café Lichtblick ist ein unverbindliches\, regelmäßiges Angebot an Trauernde jeden Alters\, zu dem wir Sie herzlich einladen. \nAb dem 30.03.2022 an jedem letzten Mittwoch im Monat. Aufgrund der Pandemielage bitten wir um telefonische Anmeldung. \n  \n \n \n 
URL:https://hospizdienst-meg.de/event/cafe-lichtblick-mit-dem-verlust-leben-lernen-5/
LOCATION:Harningsmühle Melsungen\, Huberg 4\, Melsungen\, 34212
ATTACH;FMTTYPE=image/png:https://hospizdienst-meg.de/wp-content/uploads/2022/03/Cafelichtblick-e1670681721581.png
END:VEVENT
END:VCALENDAR