BEGIN:VCALENDAR
VERSION:2.0
PRODID:-//Hospizdienst Melsunger Land - ECPv6.15.20//NONSGML v1.0//EN
CALSCALE:GREGORIAN
METHOD:PUBLISH
X-WR-CALNAME:Hospizdienst Melsunger Land
X-ORIGINAL-URL:https://hospizdienst-meg.de
X-WR-CALDESC:Veranstaltungen für Hospizdienst Melsunger Land
REFRESH-INTERVAL;VALUE=DURATION:PT1H
X-Robots-Tag:noindex
X-PUBLISHED-TTL:PT1H
BEGIN:VTIMEZONE
TZID:Europe/Berlin
BEGIN:DAYLIGHT
TZOFFSETFROM:+0100
TZOFFSETTO:+0200
TZNAME:CEST
DTSTART:20250330T010000
END:DAYLIGHT
BEGIN:STANDARD
TZOFFSETFROM:+0200
TZOFFSETTO:+0100
TZNAME:CET
DTSTART:20251026T010000
END:STANDARD
BEGIN:DAYLIGHT
TZOFFSETFROM:+0100
TZOFFSETTO:+0200
TZNAME:CEST
DTSTART:20260329T010000
END:DAYLIGHT
BEGIN:STANDARD
TZOFFSETFROM:+0200
TZOFFSETTO:+0100
TZNAME:CET
DTSTART:20261025T010000
END:STANDARD
BEGIN:DAYLIGHT
TZOFFSETFROM:+0100
TZOFFSETTO:+0200
TZNAME:CEST
DTSTART:20270328T010000
END:DAYLIGHT
BEGIN:STANDARD
TZOFFSETFROM:+0200
TZOFFSETTO:+0100
TZNAME:CET
DTSTART:20271031T010000
END:STANDARD
END:VTIMEZONE
BEGIN:VEVENT
DTSTART;TZID=Europe/Berlin:20260424T100000
DTEND;TZID=Europe/Berlin:20260424T143000
DTSTAMP:20260424T013534
CREATED:20260313T200527Z
LAST-MODIFIED:20260313T200527Z
UID:4168-1777024800-1777041000@hospizdienst-meg.de
SUMMARY:Letzte Hilfe Kurs
DESCRIPTION:Am Ende wissen wie es geht.\n\nDas Lebensende und das Sterben machen uns als Mitmenschen oft hilflos. Wir möchten Ihnen mit diesem Kurs die Möglichkeit geben\, sich mit dem Thema “Umsorgen von schwer erkrankten und sterbenden Menschen am Lebensende“ zu beschäftigen. \nLetzte Hilfe \n\nrichtet sich an ALLE Menschen\, die sich über die Themen rund um Sterben\, Tod und Palliativversorgung informieren wollen\nist das Basiswissen für eine sorgende Gesellschaft\nschafft Grundlagen und hilft mit\, die allgemeine ambulante Palliativversorgung zu verbessern\n\nVideo zum Kurs ansehen \nDie Teilnahme ist kostenfrei! \nAnmeldung und Fragen bei Hospizdienst Melsunger Land unter Tel.: 05661 9261933 oder Mobil: 01577 4733990. \nAnfahrtsbeschreibung \nZum Veranstaltungsplakat
URL:https://hospizdienst-meg.de/event/letzte-hilfe-kurs-7/
LOCATION:Alter Bahnhof Gensungen\, Felsberg Gensungen\, 34587
CATEGORIES:Termine
ATTACH;FMTTYPE=image/jpeg:https://hospizdienst-meg.de/wp-content/uploads/2023/07/Letzte_Hilfe_Kurs_23.jpg
END:VEVENT
END:VCALENDAR