BEGIN:VCALENDAR
VERSION:2.0
PRODID:-//Hospizdienst Melsunger Land - ECPv6.15.20//NONSGML v1.0//EN
CALSCALE:GREGORIAN
METHOD:PUBLISH
X-WR-CALNAME:Hospizdienst Melsunger Land
X-ORIGINAL-URL:https://hospizdienst-meg.de
X-WR-CALDESC:Veranstaltungen für Hospizdienst Melsunger Land
REFRESH-INTERVAL;VALUE=DURATION:PT1H
X-Robots-Tag:noindex
X-PUBLISHED-TTL:PT1H
BEGIN:VTIMEZONE
TZID:Europe/Berlin
BEGIN:DAYLIGHT
TZOFFSETFROM:+0100
TZOFFSETTO:+0200
TZNAME:CEST
DTSTART:20210328T010000
END:DAYLIGHT
BEGIN:STANDARD
TZOFFSETFROM:+0200
TZOFFSETTO:+0100
TZNAME:CET
DTSTART:20211031T010000
END:STANDARD
BEGIN:DAYLIGHT
TZOFFSETFROM:+0100
TZOFFSETTO:+0200
TZNAME:CEST
DTSTART:20220327T010000
END:DAYLIGHT
BEGIN:STANDARD
TZOFFSETFROM:+0200
TZOFFSETTO:+0100
TZNAME:CET
DTSTART:20221030T010000
END:STANDARD
BEGIN:DAYLIGHT
TZOFFSETFROM:+0100
TZOFFSETTO:+0200
TZNAME:CEST
DTSTART:20230326T010000
END:DAYLIGHT
BEGIN:STANDARD
TZOFFSETFROM:+0200
TZOFFSETTO:+0100
TZNAME:CET
DTSTART:20231029T010000
END:STANDARD
END:VTIMEZONE
BEGIN:VEVENT
DTSTART;TZID=Europe/Berlin:20221020T090000
DTEND;TZID=Europe/Berlin:20221020T160000
DTSTAMP:20260425T160632
CREATED:20220810T185024Z
LAST-MODIFIED:20220810T185024Z
UID:3467-1666256400-1666281600@hospizdienst-meg.de
SUMMARY:Basiskurs Palliative Praxis
DESCRIPTION:Kompetenz und Sorge für Menschen mit Demenz und am Lebensende\nDer Hospizdienst Melsunger Land bietet im Herbst 2022 eine 5-tägige Schulung zum Thema „Palliative Praxis“ in Melsungen an. Der Kurs „Palliative Praxis“ richtet sich an Mitarbeitende in Einrichtungen der Altenpflege\, der ambulanten Krankenpflege\, der hausärztlichen Betreuung\, sowie an Menschen\, die Kontakt zu hochbetagten und dementen Menschen haben oder sich aus anderen Gründen für dieses Thema interessieren. \nDas 40-stündige interdisziplinäre Curriculum „Palliative Praxis“ wurde von der Robert-Bosch-Stiftung zusammen mit ausgewiesenen Experten entwickelt. Es ermöglicht allen Teilnehmenden – unabhängig von ihrer fachlichen Qualifizierung – die Aneignung von Basiskenntnissen zum Umgang mit dementen Menschen und zur palliativen Pflege. \nDie Schulung konzentriert sich auf Themen\, mit denen sich Betreuende in der Versorgung und Begleitung schwerstkranker bzw. sterbender Menschen vertraut machen sollten. Teilnehmende werden für palliativmedizinisches und hospizliches Handeln sensibilisiert. \nInhalte: \n\nBedeutung der Biografie\nKommunikation mit an Demenz erkrankten Menschen\nSymptomkontrolle\nPatientenwille und Fürsorgepflicht\n„Tun und Lassen“ in der Sterbephase\nAbschied und Trauer\n\nVeranstaltungsort: in den Räumen des Hospizdienstes Melsunger Land\, Huberg 4\, Melsungen \nTermin: 13. und 14. Oktober 2022\, 19.\, 20. und 21. Oktober 2022 (5 Tage\, 40 Unterrichtsstunden) – Jeweils von 9:00 bis 16.00 Uhr \nKosten: 225\,- (inkl. Imbiss\, Pausengetränke und Kursmaterial) \nTeilnehmerzahl: 12 bis 20 Personen \nLeitung: Bärbel Hamenstädt (zertifizierte Kursleiterin für Palliative Praxis\, DGP) \nAnmeldeschluss: 15.09.2022 \nDer Kurs wird ausschließlich als Präsenzveranstaltung angeboten. \nFür weitere Informationen stehen wir Ihnen gerne telefonisch und persönlich\, zur Verfügung. \nZum Informationsflyer
URL:https://hospizdienst-meg.de/event/basiskurs-palliative-praxis-4/
LOCATION:Hospizdienst Melsunger Land\, Huberg 4\, Melsungen\, 34212
CATEGORIES:Termine
ATTACH;FMTTYPE=image/png:https://hospizdienst-meg.de/wp-content/uploads/2022/08/Palliative-pflege2.png
END:VEVENT
END:VCALENDAR